BEGIN:VCALENDAR
VERSION:2.0
PRODID:-//Vydehi Institute Of Law - ECPv6.15.17//NONSGML v1.0//EN
CALSCALE:GREGORIAN
METHOD:PUBLISH
X-WR-CALNAME:Vydehi Institute Of Law
X-ORIGINAL-URL:https://vil.ac.in
X-WR-CALDESC:Events for Vydehi Institute Of Law
REFRESH-INTERVAL;VALUE=DURATION:PT1H
X-Robots-Tag:noindex
X-PUBLISHED-TTL:PT1H
BEGIN:VTIMEZONE
TZID:UTC
BEGIN:STANDARD
TZOFFSETFROM:+0000
TZOFFSETTO:+0000
TZNAME:UTC
DTSTART:20240101T000000
END:STANDARD
END:VTIMEZONE
BEGIN:VEVENT
DTSTART;TZID=UTC:20250520T090000
DTEND;TZID=UTC:20250524T160000
DTSTAMP:20260425T000704
CREATED:20250220T072141Z
LAST-MODIFIED:20250220T072141Z
UID:8130-1747731600-1748102400@vil.ac.in
SUMMARY:Pre Finals Examinations
DESCRIPTION:Pre – Finals Examinations
URL:https://vil.ac.in/event/pre-finals-examinations/
LOCATION:Vydehi Law College\, Vydehi Institute of Law\, #82\, Nallurhalli\, Near BMTC 18th Depot\, Whitefield\, Bengaluru\, Karnataka\, 560 066\, India
ORGANIZER;CN="Vydehi Law College":MAILTO:vydehi.law@vimsmail.com
END:VEVENT
END:VCALENDAR