BEGIN:VCALENDAR
VERSION:2.0
PRODID:-//Vydehi Institute Of Law - ECPv6.15.17//NONSGML v1.0//EN
CALSCALE:GREGORIAN
METHOD:PUBLISH
X-ORIGINAL-URL:https://vil.ac.in
X-WR-CALDESC:Events for Vydehi Institute Of Law
REFRESH-INTERVAL;VALUE=DURATION:PT1H
X-Robots-Tag:noindex
X-PUBLISHED-TTL:PT1H
BEGIN:VTIMEZONE
TZID:UTC
BEGIN:STANDARD
TZOFFSETFROM:+0000
TZOFFSETTO:+0000
TZNAME:UTC
DTSTART:20250101T000000
END:STANDARD
END:VTIMEZONE
BEGIN:VEVENT
DTSTART;VALUE=DATE:20260420
DTEND;VALUE=DATE:20260423
DTSTAMP:20260421T124859
CREATED:20260302T055812Z
LAST-MODIFIED:20260302T055812Z
UID:10606-1776643200-1776902399@vil.ac.in
SUMMARY:Mid Term Examination
DESCRIPTION:Mid Term Examination
URL:https://vil.ac.in/event/mid-term-examination/
LOCATION:Vydehi Law College\, Vydehi Institute of Law\, #82\, Nallurhalli\, Near BMTC 18th Depot\, Whitefield\, Bengaluru\, Karnataka\, 560 066\, India
ORGANIZER;CN="Vydehi Law College":MAILTO:vydehi.law@vimsmail.com
END:VEVENT
BEGIN:VEVENT
DTSTART;VALUE=DATE:20260501
DTEND;VALUE=DATE:20260502
DTSTAMP:20260421T124859
CREATED:20260302T055911Z
LAST-MODIFIED:20260302T055911Z
UID:10608-1777593600-1777679999@vil.ac.in
SUMMARY:May Day [Holiday]
DESCRIPTION:May Day [Holiday]
URL:https://vil.ac.in/event/may-day-holiday/
LOCATION:Vydehi Law College\, Vydehi Institute of Law\, #82\, Nallurhalli\, Near BMTC 18th Depot\, Whitefield\, Bengaluru\, Karnataka\, 560 066\, India
ORGANIZER;CN="Vydehi Law College":MAILTO:vydehi.law@vimsmail.com
END:VEVENT
BEGIN:VEVENT
DTSTART;VALUE=DATE:20260504
DTEND;VALUE=DATE:20260509
DTSTAMP:20260421T124859
CREATED:20260302T060101Z
LAST-MODIFIED:20260302T094414Z
UID:10610-1777852800-1778284799@vil.ac.in
SUMMARY:Assignment & Presentation
DESCRIPTION:Assignment & Presentation
URL:https://vil.ac.in/event/assignment-presentation/
LOCATION:Vydehi Law College\, Vydehi Institute of Law\, #82\, Nallurhalli\, Near BMTC 18th Depot\, Whitefield\, Bengaluru\, Karnataka\, 560 066\, India
ORGANIZER;CN="Vydehi Law College":MAILTO:vydehi.law@vimsmail.com
END:VEVENT
BEGIN:VEVENT
DTSTART;VALUE=DATE:20260512
DTEND;VALUE=DATE:20260513
DTSTAMP:20260421T124859
CREATED:20260302T094527Z
LAST-MODIFIED:20260302T094527Z
UID:10624-1778544000-1778630399@vil.ac.in
SUMMARY:Law Exhibition
DESCRIPTION:Law Exhibition
URL:https://vil.ac.in/event/law-exhibition/
LOCATION:Vydehi Law College\, Vydehi Institute of Law\, #82\, Nallurhalli\, Near BMTC 18th Depot\, Whitefield\, Bengaluru\, Karnataka\, 560 066\, India
ORGANIZER;CN="Vydehi Law College":MAILTO:vydehi.law@vimsmail.com
END:VEVENT
BEGIN:VEVENT
DTSTART;VALUE=DATE:20260515
DTEND;VALUE=DATE:20260516
DTSTAMP:20260421T124859
CREATED:20260302T060218Z
LAST-MODIFIED:20260302T060218Z
UID:10612-1778803200-1778889599@vil.ac.in
SUMMARY:Business Plan Competition
DESCRIPTION:Business Plan Competition
URL:https://vil.ac.in/event/business-plan-competition/
LOCATION:Vydehi Law College\, Vydehi Institute of Law\, #82\, Nallurhalli\, Near BMTC 18th Depot\, Whitefield\, Bengaluru\, Karnataka\, 560 066\, India
ORGANIZER;CN="Vydehi Law College":MAILTO:vydehi.law@vimsmail.com
END:VEVENT
BEGIN:VEVENT
DTSTART;VALUE=DATE:20260521
DTEND;VALUE=DATE:20260522
DTSTAMP:20260421T124859
CREATED:20260302T060320Z
LAST-MODIFIED:20260302T060320Z
UID:10614-1779321600-1779407999@vil.ac.in
SUMMARY:Intra Debate Competition
DESCRIPTION:Intra Debate Competition
URL:https://vil.ac.in/event/intra-debate-competition/
LOCATION:Vydehi Law College\, Vydehi Institute of Law\, #82\, Nallurhalli\, Near BMTC 18th Depot\, Whitefield\, Bengaluru\, Karnataka\, 560 066\, India
ORGANIZER;CN="Vydehi Law College":MAILTO:vydehi.law@vimsmail.com
END:VEVENT
BEGIN:VEVENT
DTSTART;VALUE=DATE:20260605
DTEND;VALUE=DATE:20260606
DTSTAMP:20260421T124859
CREATED:20260302T060459Z
LAST-MODIFIED:20260302T060459Z
UID:10618-1780617600-1780703999@vil.ac.in
SUMMARY:World Environment Day Celebration
DESCRIPTION:World Environment Day Celebration
URL:https://vil.ac.in/event/world-environment-day-celebration/
LOCATION:Vydehi Law College\, Vydehi Institute of Law\, #82\, Nallurhalli\, Near BMTC 18th Depot\, Whitefield\, Bengaluru\, Karnataka\, 560 066\, India
ORGANIZER;CN="Vydehi Law College":MAILTO:vydehi.law@vimsmail.com
END:VEVENT
BEGIN:VEVENT
DTSTART;VALUE=DATE:20260615
DTEND;VALUE=DATE:20260620
DTSTAMP:20260421T124859
CREATED:20260302T060603Z
LAST-MODIFIED:20260302T060603Z
UID:10620-1781481600-1781913599@vil.ac.in
SUMMARY:Pre-Final Exam
DESCRIPTION:Pre-Final Exam
URL:https://vil.ac.in/event/pre-final-exam/
LOCATION:Vydehi Law College\, Vydehi Institute of Law\, #82\, Nallurhalli\, Near BMTC 18th Depot\, Whitefield\, Bengaluru\, Karnataka\, 560 066\, India
ORGANIZER;CN="Vydehi Law College":MAILTO:vydehi.law@vimsmail.com
END:VEVENT
END:VCALENDAR