BEGIN:VCALENDAR
VERSION:2.0
PRODID:-//Vydehi Institute Of Law - ECPv6.15.17//NONSGML v1.0//EN
CALSCALE:GREGORIAN
METHOD:PUBLISH
X-WR-CALNAME:Vydehi Institute Of Law
X-ORIGINAL-URL:https://vil.ac.in
X-WR-CALDESC:Events for Vydehi Institute Of Law
REFRESH-INTERVAL;VALUE=DURATION:PT1H
X-Robots-Tag:noindex
X-PUBLISHED-TTL:PT1H
BEGIN:VTIMEZONE
TZID:UTC
BEGIN:STANDARD
TZOFFSETFROM:+0000
TZOFFSETTO:+0000
TZNAME:UTC
DTSTART:20240101T000000
END:STANDARD
END:VTIMEZONE
BEGIN:VEVENT
DTSTART;VALUE=DATE:20250325
DTEND;VALUE=DATE:20250326
DTSTAMP:20260421T175952
CREATED:20250220T070410Z
LAST-MODIFIED:20250220T070410Z
UID:8116-1742860800-1742947199@vil.ac.in
SUMMARY:COMMENCEMENT OF MOOTCOURT TRAINING
DESCRIPTION:COMMENCEMENT OF MOOTCOURT TRAINING
URL:https://vil.ac.in/event/commencement-of-mootcourt-training/
LOCATION:Vydehi Law College\, Vydehi Institute of Law\, #82\, Nallurhalli\, Near BMTC 18th Depot\, Whitefield\, Bengaluru\, Karnataka\, 560 066\, India
ORGANIZER;CN="Vydehi Law College":MAILTO:vydehi.law@vimsmail.com
END:VEVENT
BEGIN:VEVENT
DTSTART;VALUE=DATE:20250324
DTEND;VALUE=DATE:20250325
DTSTAMP:20260421T175952
CREATED:20250220T070335Z
LAST-MODIFIED:20250220T070347Z
UID:8114-1742774400-1742860799@vil.ac.in
SUMMARY:MOOTCOURT HALL INAUGURATION
DESCRIPTION:MOOTCOURT HALL INAUGURATION
URL:https://vil.ac.in/event/mootcourt-hall-inauguration/
LOCATION:Vydehi Law College\, Vydehi Institute of Law\, #82\, Nallurhalli\, Near BMTC 18th Depot\, Whitefield\, Bengaluru\, Karnataka\, 560 066\, India
ORGANIZER;CN="Vydehi Law College":MAILTO:vydehi.law@vimsmail.com
END:VEVENT
BEGIN:VEVENT
DTSTART;VALUE=DATE:20250315
DTEND;VALUE=DATE:20250316
DTSTAMP:20260421T175952
CREATED:20250220T070054Z
LAST-MODIFIED:20250220T070211Z
UID:8110-1741996800-1742083199@vil.ac.in
SUMMARY:WORLD CONSUMER RIGHTS DAY
DESCRIPTION:WORLD CONSUMER RIGHTS DAY
URL:https://vil.ac.in/event/international-womens-day/
LOCATION:Vydehi Law College\, Vydehi Institute of Law\, #82\, Nallurhalli\, Near BMTC 18th Depot\, Whitefield\, Bengaluru\, Karnataka\, 560 066\, India
ORGANIZER;CN="Vydehi Law College":MAILTO:vydehi.law@vimsmail.com
END:VEVENT
BEGIN:VEVENT
DTSTART;VALUE=DATE:20250308
DTEND;VALUE=DATE:20250309
DTSTAMP:20260421T175952
CREATED:20250221T065258Z
LAST-MODIFIED:20250221T065258Z
UID:8319-1741392000-1741478399@vil.ac.in
SUMMARY:INTERNATIONAL WOMEN'S DAY
DESCRIPTION:INTERNATIONAL WOMEN’S DAY
URL:https://vil.ac.in/event/international-womens-day-2/
LOCATION:Vydehi Law College\, Vydehi Institute of Law\, #82\, Nallurhalli\, Near BMTC 18th Depot\, Whitefield\, Bengaluru\, Karnataka\, 560 066\, India
ORGANIZER;CN="Vydehi Law College":MAILTO:vydehi.law@vimsmail.com
END:VEVENT
BEGIN:VEVENT
DTSTART;VALUE=DATE:20250303
DTEND;VALUE=DATE:20250304
DTSTAMP:20260421T175952
CREATED:20250220T070002Z
LAST-MODIFIED:20250220T070002Z
UID:8108-1740960000-1741046399@vil.ac.in
SUMMARY:INTERNSHIP VIVA
DESCRIPTION:INTERNSHIP VIVA
URL:https://vil.ac.in/event/internship-viva/
LOCATION:Vydehi Law College\, Vydehi Institute of Law\, #82\, Nallurhalli\, Near BMTC 18th Depot\, Whitefield\, Bengaluru\, Karnataka\, 560 066\, India
ORGANIZER;CN="Vydehi Law College":MAILTO:vydehi.law@vimsmail.com
END:VEVENT
BEGIN:VEVENT
DTSTART;VALUE=DATE:20250301
DTEND;VALUE=DATE:20250302
DTSTAMP:20260421T175952
CREATED:20250220T065859Z
LAST-MODIFIED:20250220T065859Z
UID:8106-1740787200-1740873599@vil.ac.in
SUMMARY:GUEST LECTURE ON NEW CRIMINAL LAWS
DESCRIPTION:GUEST LECTURE ON NEW CRIMINAL LAWS \nCOURSE PLAN SUBMISSION
URL:https://vil.ac.in/event/guest-lecture-on-new-criminal-laws/
LOCATION:Vydehi Law College\, Vydehi Institute of Law\, #82\, Nallurhalli\, Near BMTC 18th Depot\, Whitefield\, Bengaluru\, Karnataka\, 560 066\, India
ORGANIZER;CN="Vydehi Law College":MAILTO:vydehi.law@vimsmail.com
END:VEVENT
BEGIN:VEVENT
DTSTART;VALUE=DATE:20250227
DTEND;VALUE=DATE:20250228
DTSTAMP:20260421T175952
CREATED:20250220T065653Z
LAST-MODIFIED:20250220T065653Z
UID:8104-1740614400-1740700799@vil.ac.in
SUMMARY:COMMENCEMENT OF EVEN SEM CLASSES - 5 YEARS
DESCRIPTION:COMMENCEMENT OF EVEN SEM CLASSES – 5 YEARS
URL:https://vil.ac.in/event/commencement-of-even-sem-classes-5-years/
LOCATION:Vydehi Law College\, Vydehi Institute of Law\, #82\, Nallurhalli\, Near BMTC 18th Depot\, Whitefield\, Bengaluru\, Karnataka\, 560 066\, India
ORGANIZER;CN="Vydehi Law College":MAILTO:vydehi.law@vimsmail.com
END:VEVENT
BEGIN:VEVENT
DTSTART;VALUE=DATE:20250226
DTEND;VALUE=DATE:20250227
DTSTAMP:20260421T175952
CREATED:20250220T065507Z
LAST-MODIFIED:20250220T065557Z
UID:8101-1740528000-1740614399@vil.ac.in
SUMMARY:Mahashivratri
DESCRIPTION:Mahashivratri – HOLIDAY
URL:https://vil.ac.in/event/commencement-of-even-sem-classes-3-years/
LOCATION:Vydehi Law College\, Vydehi Institute of Law\, #82\, Nallurhalli\, Near BMTC 18th Depot\, Whitefield\, Bengaluru\, Karnataka\, 560 066\, India
ORGANIZER;CN="Vydehi Law College":MAILTO:vydehi.law@vimsmail.com
END:VEVENT
BEGIN:VEVENT
DTSTART;VALUE=DATE:20250224
DTEND;VALUE=DATE:20250225
DTSTAMP:20260421T175952
CREATED:20250221T065427Z
LAST-MODIFIED:20250221T065427Z
UID:8321-1740355200-1740441599@vil.ac.in
SUMMARY:COMMENCEMENT OF EVEN SEM CLASSES - 3 YEARS
DESCRIPTION:COMMENCEMENT OF EVEN SEM CLASSES – 3 YEARS \nABHYARAMBA PROGRAM
URL:https://vil.ac.in/event/commencement-of-even-sem-classes-3-years-2/
LOCATION:Vydehi Law College\, Vydehi Institute of Law\, #82\, Nallurhalli\, Near BMTC 18th Depot\, Whitefield\, Bengaluru\, Karnataka\, 560 066\, India
ORGANIZER;CN="Vydehi Law College":MAILTO:vydehi.law@vimsmail.com
END:VEVENT
BEGIN:VEVENT
DTSTART;VALUE=DATE:20250212
DTEND;VALUE=DATE:20250213
DTSTAMP:20260421T175952
CREATED:20250220T065343Z
LAST-MODIFIED:20250220T065343Z
UID:8099-1739318400-1739404799@vil.ac.in
SUMMARY:COMMENCEMENT OF INTERNSHIP FOR 5 YEARS B.A.LLB. and BBA.LL.B.
DESCRIPTION:COMMENCEMENT OF INTERNSHIP FOR 5 YEARS B.A.LLB. and BBA.LL.B.
URL:https://vil.ac.in/event/commencement-of-internship-for-5-years-b-a-llb-and-bba-ll-b/
LOCATION:Vydehi Law College\, Vydehi Institute of Law\, #82\, Nallurhalli\, Near BMTC 18th Depot\, Whitefield\, Bengaluru\, Karnataka\, 560 066\, India
ORGANIZER;CN="Vydehi Law College":MAILTO:vydehi.law@vimsmail.com
END:VEVENT
BEGIN:VEVENT
DTSTART;VALUE=DATE:20250205
DTEND;VALUE=DATE:20250206
DTSTAMP:20260421T175952
CREATED:20250220T063258Z
LAST-MODIFIED:20250220T063258Z
UID:8095-1738713600-1738799999@vil.ac.in
SUMMARY:COMMENCEMENT OF INTERNSHIP FOR 3 YEARS LLB
DESCRIPTION:COMMENCEMENT OF INTERNSHIP FOR 3 YEARS LLB
URL:https://vil.ac.in/event/commencement-of-internship-for-3-years-llb/
LOCATION:Vydehi Law College\, Vydehi Institute of Law\, #82\, Nallurhalli\, Near BMTC 18th Depot\, Whitefield\, Bengaluru\, Karnataka\, 560 066\, India
ORGANIZER;CN="Vydehi Law College":MAILTO:vydehi.law@vimsmail.com
END:VEVENT
END:VCALENDAR