BEGIN:VCALENDAR
VERSION:2.0
PRODID:-//Vydehi Institute Of Law - ECPv6.15.17//NONSGML v1.0//EN
CALSCALE:GREGORIAN
METHOD:PUBLISH
X-WR-CALNAME:Vydehi Institute Of Law
X-ORIGINAL-URL:https://vil.ac.in
X-WR-CALDESC:Events for Vydehi Institute Of Law
REFRESH-INTERVAL;VALUE=DURATION:PT1H
X-Robots-Tag:noindex
X-PUBLISHED-TTL:PT1H
BEGIN:VTIMEZONE
TZID:UTC
BEGIN:STANDARD
TZOFFSETFROM:+0000
TZOFFSETTO:+0000
TZNAME:UTC
DTSTART:20240101T000000
END:STANDARD
END:VTIMEZONE
BEGIN:VEVENT
DTSTART;TZID=UTC:20250408T090000
DTEND;TZID=UTC:20250412T160000
DTSTAMP:20260425T000704
CREATED:20250220T070550Z
LAST-MODIFIED:20250220T070550Z
UID:8118-1744102800-1744473600@vil.ac.in
SUMMARY:Mid Term Exams
DESCRIPTION:Mid Term Exams
URL:https://vil.ac.in/event/mid-term-exams/
LOCATION:Vydehi Law College\, Vydehi Institute of Law\, #82\, Nallurhalli\, Near BMTC 18th Depot\, Whitefield\, Bengaluru\, Karnataka\, 560 066\, India
ORGANIZER;CN="Vydehi Law College":MAILTO:vydehi.law@vimsmail.com
END:VEVENT
BEGIN:VEVENT
DTSTART;TZID=UTC:20250414T090000
DTEND;TZID=UTC:20250414T160000
DTSTAMP:20260425T000704
CREATED:20250220T070710Z
LAST-MODIFIED:20250220T071737Z
UID:8120-1744621200-1744646400@vil.ac.in
SUMMARY:Dr. BR Ambedkar Jayanthi
DESCRIPTION:Dr. BR Ambedkar Jayanthi – HOLIDAY
URL:https://vil.ac.in/event/dr-br-ambedkar-jayanthi/
LOCATION:Vydehi Law College\, Vydehi Institute of Law\, #82\, Nallurhalli\, Near BMTC 18th Depot\, Whitefield\, Bengaluru\, Karnataka\, 560 066\, India
ORGANIZER;CN="Vydehi Law College":MAILTO:vydehi.law@vimsmail.com
END:VEVENT
BEGIN:VEVENT
DTSTART;TZID=UTC:20250422T090000
DTEND;TZID=UTC:20250422T160000
DTSTAMP:20260425T000704
CREATED:20250220T070801Z
LAST-MODIFIED:20250220T071824Z
UID:8122-1745312400-1745337600@vil.ac.in
SUMMARY:Intra- Collegiate Moot Court Competition 2024-25
DESCRIPTION:Intra- Collegiate Moot Court Competition 2024-25
URL:https://vil.ac.in/event/intra-collegiate-moot-court-competition-2024-25/
LOCATION:Vydehi Law College\, Vydehi Institute of Law\, #82\, Nallurhalli\, Near BMTC 18th Depot\, Whitefield\, Bengaluru\, Karnataka\, 560 066\, India
ORGANIZER;CN="Vydehi Law College":MAILTO:vydehi.law@vimsmail.com
END:VEVENT
END:VCALENDAR