BEGIN:VCALENDAR
VERSION:2.0
PRODID:-//Vydehi Institute Of Law - ECPv6.15.17//NONSGML v1.0//EN
CALSCALE:GREGORIAN
METHOD:PUBLISH
X-WR-CALNAME:Vydehi Institute Of Law
X-ORIGINAL-URL:https://vil.ac.in
X-WR-CALDESC:Events for Vydehi Institute Of Law
REFRESH-INTERVAL;VALUE=DURATION:PT1H
X-Robots-Tag:noindex
X-PUBLISHED-TTL:PT1H
BEGIN:VTIMEZONE
TZID:UTC
BEGIN:STANDARD
TZOFFSETFROM:+0000
TZOFFSETTO:+0000
TZNAME:UTC
DTSTART:20240101T000000
END:STANDARD
END:VTIMEZONE
BEGIN:VEVENT
DTSTART;VALUE=DATE:20250603
DTEND;VALUE=DATE:20250604
DTSTAMP:20260424T205441
CREATED:20250220T072256Z
LAST-MODIFIED:20250220T072413Z
UID:8132-1748908800-1748995199@vil.ac.in
SUMMARY:End Of Even Semester Classes for the Academic Year 2024-25
DESCRIPTION:End Of Even Semester Classes for the Academic Year 2024-25
URL:https://vil.ac.in/event/world-tobacco-prohibition-day/
LOCATION:Vydehi Law College\, Vydehi Institute of Law\, #82\, Nallurhalli\, Near BMTC 18th Depot\, Whitefield\, Bengaluru\, Karnataka\, 560 066\, India
ORGANIZER;CN="Vydehi Law College":MAILTO:vydehi.law@vimsmail.com
END:VEVENT
BEGIN:VEVENT
DTSTART;VALUE=DATE:20250605
DTEND;VALUE=DATE:20250606
DTSTAMP:20260424T205441
CREATED:20250220T072451Z
LAST-MODIFIED:20250220T072451Z
UID:8135-1749081600-1749167999@vil.ac.in
SUMMARY:WORLD ENVIRONMENT DAY
DESCRIPTION:WORLD ENVIRONMENT DAY
URL:https://vil.ac.in/event/world-environment-day/
LOCATION:Vydehi Law College\, Vydehi Institute of Law\, #82\, Nallurhalli\, Near BMTC 18th Depot\, Whitefield\, Bengaluru\, Karnataka\, 560 066\, India
ORGANIZER;CN="Vydehi Law College":MAILTO:vydehi.law@vimsmail.com
END:VEVENT
BEGIN:VEVENT
DTSTART;VALUE=DATE:20250607
DTEND;VALUE=DATE:20250608
DTSTAMP:20260424T205441
CREATED:20250220T072527Z
LAST-MODIFIED:20250220T072527Z
UID:8137-1749254400-1749340799@vil.ac.in
SUMMARY:WORLD FOOD SAFETY DAY
DESCRIPTION:WORLD FOOD SAFETY DAY
URL:https://vil.ac.in/event/world-food-safety-day/
LOCATION:Vydehi Law College\, Vydehi Institute of Law\, #82\, Nallurhalli\, Near BMTC 18th Depot\, Whitefield\, Bengaluru\, Karnataka\, 560 066\, India
ORGANIZER;CN="Vydehi Law College":MAILTO:vydehi.law@vimsmail.com
END:VEVENT
BEGIN:VEVENT
DTSTART;VALUE=DATE:20250612
DTEND;VALUE=DATE:20250613
DTSTAMP:20260424T205441
CREATED:20250220T072633Z
LAST-MODIFIED:20250220T072633Z
UID:8139-1749686400-1749772799@vil.ac.in
SUMMARY:WORLD DAY AGAINST CHILD LABOUR
DESCRIPTION:WORLD DAY AGAINST CHILD LABOUR
URL:https://vil.ac.in/event/world-day-against-child-labour/
LOCATION:Vydehi Law College\, Vydehi Institute of Law\, #82\, Nallurhalli\, Near BMTC 18th Depot\, Whitefield\, Bengaluru\, Karnataka\, 560 066\, India
ORGANIZER;CN="Vydehi Law College":MAILTO:vydehi.law@vimsmail.com
END:VEVENT
BEGIN:VEVENT
DTSTART;VALUE=DATE:20250621
DTEND;VALUE=DATE:20250622
DTSTAMP:20260424T205441
CREATED:20250220T072715Z
LAST-MODIFIED:20250220T072715Z
UID:8141-1750464000-1750550399@vil.ac.in
SUMMARY:INTERNATIONAL YOGA DAY
DESCRIPTION:INTERNATIONAL YOGA DAY
URL:https://vil.ac.in/event/international-yoga-day/
LOCATION:Vydehi Law College\, Vydehi Institute of Law\, #82\, Nallurhalli\, Near BMTC 18th Depot\, Whitefield\, Bengaluru\, Karnataka\, 560 066\, India
ORGANIZER;CN="Vydehi Law College":MAILTO:vydehi.law@vimsmail.com
END:VEVENT
BEGIN:VEVENT
DTSTART;VALUE=DATE:20250626
DTEND;VALUE=DATE:20250627
DTSTAMP:20260424T205441
CREATED:20250220T072804Z
LAST-MODIFIED:20250220T072804Z
UID:8143-1750896000-1750982399@vil.ac.in
SUMMARY:INTERNATIONAL DAY AGAINST DRUG ABUSE AND ILLICIT TRAFFICKING
DESCRIPTION:INTERNATIONAL DAY AGAINST DRUG ABUSE AND ILLICIT TRAFFICKING
URL:https://vil.ac.in/event/international-day-against-drug-abuse-and-illicit-trafficking/
LOCATION:Vydehi Law College\, Vydehi Institute of Law\, #82\, Nallurhalli\, Near BMTC 18th Depot\, Whitefield\, Bengaluru\, Karnataka\, 560 066\, India
ORGANIZER;CN="Vydehi Law College":MAILTO:vydehi.law@vimsmail.com
END:VEVENT
END:VCALENDAR